BEGIN:VCALENDAR
VERSION:2.0
PRODID:-//Correria Campinas | Corrida de Rua - ECPv6.15.17.1//NONSGML v1.0//EN
CALSCALE:GREGORIAN
METHOD:PUBLISH
X-WR-CALNAME:Correria Campinas | Corrida de Rua
X-ORIGINAL-URL:https://correriacampinas.com.br
X-WR-CALDESC:Eventos para Correria Campinas | Corrida de Rua
REFRESH-INTERVAL;VALUE=DURATION:PT1H
X-Robots-Tag:noindex
X-PUBLISHED-TTL:PT1H
BEGIN:VTIMEZONE
TZID:America/Sao_Paulo
BEGIN:STANDARD
TZOFFSETFROM:-0300
TZOFFSETTO:-0300
TZNAME:-03
DTSTART:20250101T000000
END:STANDARD
END:VTIMEZONE
BEGIN:VEVENT
DTSTART;TZID=America/Sao_Paulo:20260628T070000
DTEND;TZID=America/Sao_Paulo:20260628T070000
DTSTAMP:20260423T123505
CREATED:20251127T112648Z
LAST-MODIFIED:20260303T234031Z
UID:26245-1782630000-1782630000@correriacampinas.com.br
SUMMARY:15º Corrida Turística de Piracicaba
DESCRIPTION:A tradicional Corrida Turística de Piracicaba\, conhecida também como corrida da pamonha por ter ela de pós prova\, chega em sua 15º edição com liderança de uma das maiores provas do interior paulista! \nAcontecerá no dia 28 de junho de 2026 às 07:00 terá as distâncias de 5 Km e 10 Km\, Corridinha Kids e o Desafio Turístico de 15 Km combinação das duas provas\, com tempo de corte de 30 minutos para os 5\,5K. \nINSCREVA-SE \nCupom de desconto CORRERIACAMPINAS
URL:https://correriacampinas.com.br/calendario/15o-corrida-turistica-de-piracicaba/
LOCATION:Piracicaba – SP
CATEGORIES:Corrida de rua
END:VEVENT
END:VCALENDAR