BEGIN:VCALENDAR
VERSION:2.0
PRODID:-//Correria Campinas | Corrida de Rua - ECPv6.15.17.1//NONSGML v1.0//EN
CALSCALE:GREGORIAN
METHOD:PUBLISH
X-WR-CALNAME:Correria Campinas | Corrida de Rua
X-ORIGINAL-URL:https://correriacampinas.com.br
X-WR-CALDESC:Eventos para Correria Campinas | Corrida de Rua
REFRESH-INTERVAL;VALUE=DURATION:PT1H
X-Robots-Tag:noindex
X-PUBLISHED-TTL:PT1H
BEGIN:VTIMEZONE
TZID:America/Sao_Paulo
BEGIN:STANDARD
TZOFFSETFROM:-0300
TZOFFSETTO:-0300
TZNAME:-03
DTSTART:20250101T000000
END:STANDARD
END:VTIMEZONE
BEGIN:VEVENT
DTSTART;TZID=America/Sao_Paulo:20260426T070000
DTEND;TZID=America/Sao_Paulo:20260426T070000
DTSTAMP:20260423T123446
CREATED:20251112T202459Z
LAST-MODIFIED:20251112T202459Z
UID:26009-1777186800-1777186800@correriacampinas.com.br
SUMMARY:1º Corrida e Caminhada Azul- Piracicaba
DESCRIPTION:A 1º edição da Corrida e Caminhada Azul acontecerá no dia 26 de abril às 07:00 em Piracicaba\, terá a modalidade de Corrida 5km e Caminhada 3km. \nINSCREVA-SE
URL:https://correriacampinas.com.br/calendario/1o-corrida-e-caminhada-azul-piracicaba/
LOCATION:Piracicaba – SP
CATEGORIES:Corrida de rua
END:VEVENT
END:VCALENDAR