BEGIN:VCALENDAR
VERSION:2.0
PRODID:-//Correria Campinas | Corrida de Rua - ECPv6.15.17.1//NONSGML v1.0//EN
CALSCALE:GREGORIAN
METHOD:PUBLISH
X-WR-CALNAME:Correria Campinas | Corrida de Rua
X-ORIGINAL-URL:https://correriacampinas.com.br
X-WR-CALDESC:Eventos para Correria Campinas | Corrida de Rua
REFRESH-INTERVAL;VALUE=DURATION:PT1H
X-Robots-Tag:noindex
X-PUBLISHED-TTL:PT1H
BEGIN:VTIMEZONE
TZID:America/Sao_Paulo
BEGIN:STANDARD
TZOFFSETFROM:-0300
TZOFFSETTO:-0300
TZNAME:-03
DTSTART:20250101T000000
END:STANDARD
END:VTIMEZONE
BEGIN:VEVENT
DTSTART;TZID=America/Sao_Paulo:20260426T060000
DTEND;TZID=America/Sao_Paulo:20260426T060000
DTSTAMP:20260423T104218
CREATED:20251121T195546Z
LAST-MODIFIED:20260317T141647Z
UID:26168-1777183200-1777183200@correriacampinas.com.br
SUMMARY:Sorocaba Speed Run- Starter Edition
DESCRIPTION:A Sorocaba Speed Run Full Life será realizada no Parque das Águas\, conta com três etapas (Starter\, Evolution e Performance). \nA etapa Starter Edition acontecerá no dia 26 de abril de 2026 à partir das 06:15 e terá as distâncias de 3Km\, 5Km\, 7Km. \nINSCREVA-SE  \nCupom de desconto CORRERIACAMPINAS
URL:https://correriacampinas.com.br/calendario/sorocaba-speed-run-starter-edition/
LOCATION:Sorocaba – SP
CATEGORIES:Corrida de rua
END:VEVENT
BEGIN:VEVENT
DTSTART;TZID=America/Sao_Paulo:20260426T063000
DTEND;TZID=America/Sao_Paulo:20260426T063000
DTSTAMP:20260423T104218
CREATED:20251211T110131Z
LAST-MODIFIED:20251211T110131Z
UID:26473-1777185000-1777185000@correriacampinas.com.br
SUMMARY:7º edição Corrida 3 Lagos- Atibaia
DESCRIPTION:A 7º edição da Corrida 3 Lagos acontecerá no dia 26 de abril de 2026 às 6h50 para 10km e 7h20 para 5km e caminhada em Atibaia. \nINSCREVA-SE
URL:https://correriacampinas.com.br/calendario/7o-edicao-corrida-3-lagos-atibaia/
LOCATION:Atibaia – SP
CATEGORIES:Corrida de rua
END:VEVENT
BEGIN:VEVENT
DTSTART;TZID=America/Sao_Paulo:20260426T063000
DTEND;TZID=America/Sao_Paulo:20260426T063000
DTSTAMP:20260423T104218
CREATED:20260224T110447Z
LAST-MODIFIED:20260224T110447Z
UID:28192-1777185000-1777185000@correriacampinas.com.br
SUMMARY:Super Action- Vinhedo
DESCRIPTION:A Super Action acontecerá no dia 26 de abril de 2026 em Vinhedo\, inclui varias modalidades: natação\, ciclismo e corrida. \nA Corrida de 5km terá inicio as 06:50. \nINSCREVA-SE
URL:https://correriacampinas.com.br/calendario/super-action-vinhedo/
LOCATION:Vinhedo – SP
CATEGORIES:Corrida de rua
END:VEVENT
BEGIN:VEVENT
DTSTART;TZID=America/Sao_Paulo:20260426T070000
DTEND;TZID=America/Sao_Paulo:20260426T070000
DTSTAMP:20260423T104218
CREATED:20251027T150218Z
LAST-MODIFIED:20260113T201956Z
UID:25567-1777186800-1777186800@correriacampinas.com.br
SUMMARY:Circuito Pague Menos- Etapa Campinas
DESCRIPTION:  \n \nA cidade de Campinas receberá a terceira etapa do Circuito de Corridas de rua do Pague Menos. \nA prova acontecerá dia 26 de abril de 2026 com percursos de 5km\, 10km e caminhada pet\, largada às 07:00. \nINSCREVA-SE \nCupom de desconto CORRERIACAMPINAS
URL:https://correriacampinas.com.br/calendario/circuito-pague-menos-etapa-campinas/
LOCATION:Campinas – SP
CATEGORIES:Corrida de rua
END:VEVENT
BEGIN:VEVENT
DTSTART;TZID=America/Sao_Paulo:20260426T070000
DTEND;TZID=America/Sao_Paulo:20260426T070000
DTSTAMP:20260423T104218
CREATED:20251112T202459Z
LAST-MODIFIED:20251112T202459Z
UID:26009-1777186800-1777186800@correriacampinas.com.br
SUMMARY:1º Corrida e Caminhada Azul- Piracicaba
DESCRIPTION:A 1º edição da Corrida e Caminhada Azul acontecerá no dia 26 de abril às 07:00 em Piracicaba\, terá a modalidade de Corrida 5km e Caminhada 3km. \nINSCREVA-SE
URL:https://correriacampinas.com.br/calendario/1o-corrida-e-caminhada-azul-piracicaba/
LOCATION:Piracicaba – SP
CATEGORIES:Corrida de rua
END:VEVENT
BEGIN:VEVENT
DTSTART;TZID=America/Sao_Paulo:20260426T070000
DTEND;TZID=America/Sao_Paulo:20260426T070000
DTSTAMP:20260423T104218
CREATED:20260121T000244Z
LAST-MODIFIED:20260121T000244Z
UID:27054-1777186800-1777186800@correriacampinas.com.br
SUMMARY:Corrida Red Run- Indaiatuba
DESCRIPTION:A Corrida Red Run acontecerá no dia 26 de abril de 2026 às 07:00 no Parque do Mirim em Indaiatuba\, com a distância da corrida 5km e 10km. \nINSCREVA-SE
URL:https://correriacampinas.com.br/calendario/corrida-red-run-indaiatuba/
LOCATION:Indaiatuba/SP
CATEGORIES:Corrida de rua
END:VEVENT
BEGIN:VEVENT
DTSTART;TZID=America/Sao_Paulo:20260426T070000
DTEND;TZID=America/Sao_Paulo:20260426T070000
DTSTAMP:20260423T104218
CREATED:20260123T103403Z
LAST-MODIFIED:20260126T223145Z
UID:27112-1777186800-1777186800@correriacampinas.com.br
SUMMARY:6º Corrida Forte Anhanguera-Exército Campinas
DESCRIPTION:A 6º edição da Corrida Forte Anhanguera-Exército Campinas\, será no dia 26 de abril às 07:00 na 11º Brigada de Infantaria Mecanizada. \nTerá as modalidades: Corrida 5 km\, 10 km\, 17 km e Caminhada 5km. \nINSCREVA-SE \nCupom de desconto CORRERIACAMPINAS
URL:https://correriacampinas.com.br/calendario/6o-corrida-forte-anhanguera-exercito-campinas/
LOCATION:Campinas – SP
CATEGORIES:Corrida de rua
END:VEVENT
BEGIN:VEVENT
DTSTART;TZID=America/Sao_Paulo:20260426T070000
DTEND;TZID=America/Sao_Paulo:20260426T070000
DTSTAMP:20260423T104218
CREATED:20260127T230619Z
LAST-MODIFIED:20260330T133703Z
UID:27430-1777186800-1777186800@correriacampinas.com.br
SUMMARY:7º Corrida Outlet Premium- Itupeva
DESCRIPTION:A 7º edição da Corrida Outlet Premium acontecerá no dia 26 de abril de 2026 às 07:00 em Itupeva. \nTerá as modalidades de Corrida 5km e 10km\, e Caminhada 3km. \nINSCREVA-SE \nCupom de desconto CORRERIACAMPINAS10
URL:https://correriacampinas.com.br/calendario/7o-corrida-outlet-premium-itupeva/
LOCATION:Itupeva – SP
CATEGORIES:Corrida de rua
END:VEVENT
BEGIN:VEVENT
DTSTART;TZID=America/Sao_Paulo:20260426T070000
DTEND;TZID=America/Sao_Paulo:20260426T070000
DTSTAMP:20260423T104218
CREATED:20260321T165557Z
LAST-MODIFIED:20260321T165557Z
UID:28605-1777186800-1777186800@correriacampinas.com.br
SUMMARY:São Miguel Run- Hortolândia
DESCRIPTION:A Corrida São Miguel Run será no dia 26 de abril de 2026 às 07:00 no Lago da Fé em Hortolândia\, na distância de 5km. \nINSCREVA-SE
URL:https://correriacampinas.com.br/calendario/sao-miguel-run-hortolandia/
LOCATION:Hortolândia – SP
CATEGORIES:Corrida de rua
END:VEVENT
BEGIN:VEVENT
DTSTART;TZID=America/Sao_Paulo:20260426T070000
DTEND;TZID=America/Sao_Paulo:20260426T070000
DTSTAMP:20260423T104218
CREATED:20260324T194928Z
LAST-MODIFIED:20260324T194928Z
UID:28638-1777186800-1777186800@correriacampinas.com.br
SUMMARY:1º FbRun Circuito Panamericano By Pirelli- Elias Fausto
DESCRIPTION:A 1º edição da FbRun Circuito Panamericano By Pirelli será no dia 26 de abril de 2026 às 07:00 em Elias Fausto\, e terá a distância de 5km. \nINSCREVA-SE
URL:https://correriacampinas.com.br/calendario/1o-fbrun-circuito-panamericano-by-pirelli-elias-fausto/
LOCATION:Elias Fausto – SP
CATEGORIES:Corrida de rua
END:VEVENT
BEGIN:VEVENT
DTSTART;TZID=America/Sao_Paulo:20260426T070000
DTEND;TZID=America/Sao_Paulo:20260426T070000
DTSTAMP:20260423T104218
CREATED:20260324T195539Z
LAST-MODIFIED:20260406T174038Z
UID:28644-1777186800-1777186800@correriacampinas.com.br
SUMMARY:Corrida SMA- Rio Claro
DESCRIPTION:A Corrida SMA será no dia 26 de abril de 2026 às 07:00 em Rio Claro. \nTerá as modalidades: Corrida 5km\, 10km e 15km- Caminhada e Corrida Kids. \nINSCREVA-SE \nCupom de desconto CORRERIACAMPINAS
URL:https://correriacampinas.com.br/calendario/corrida-sma-rio-claro/
LOCATION:Rio Claro – SP
CATEGORIES:Corrida de rua
END:VEVENT
BEGIN:VEVENT
DTSTART;TZID=America/Sao_Paulo:20260426T073000
DTEND;TZID=America/Sao_Paulo:20260426T073000
DTSTAMP:20260423T104218
CREATED:20260218T230950Z
LAST-MODIFIED:20260218T230950Z
UID:28140-1777188600-1777188600@correriacampinas.com.br
SUMMARY:APAE Off Road- Araras
DESCRIPTION:A Corrida APAE Off Road será no dia 26 de abril de 2026 às 07:30 no Sítio Arco Íris em Araras. \nTerá as modalidades: Corrida: 5 km\, 10 km e 21 km- Caminhada: 3 km e 5 km. \nINSCREVA-SE
URL:https://correriacampinas.com.br/calendario/apae-off-road-araras/
LOCATION:Araras – SP
CATEGORIES:Corrida de rua,Meia Maratona 21 Km
END:VEVENT
BEGIN:VEVENT
DTSTART;TZID=America/Sao_Paulo:20260426T080000
DTEND;TZID=America/Sao_Paulo:20260426T080000
DTSTAMP:20260423T104218
CREATED:20260227T105425Z
LAST-MODIFIED:20260227T105425Z
UID:28229-1777190400-1777190400@correriacampinas.com.br
SUMMARY:GM Run CPCA- Indaiatuba
DESCRIPTION:A Corrida GM Run CPCA será no dia 26 de abril de 2026 às 08:00 em Indaiatuba\, terá as modalidadades de Corrida 5km e 10km e Caminhada 3\,8km. \nINSCREVA-SE
URL:https://correriacampinas.com.br/calendario/gm-run-cpca-indaiatuba/
LOCATION:Indaiatuba/SP
CATEGORIES:Corrida de rua
END:VEVENT
BEGIN:VEVENT
DTSTART;TZID=America/Sao_Paulo:20260501T063000
DTEND;TZID=America/Sao_Paulo:20260501T063000
DTSTAMP:20260423T104218
CREATED:20260309T151231Z
LAST-MODIFIED:20260309T160105Z
UID:28375-1777617000-1777617000@correriacampinas.com.br
SUMMARY:Runforlife Marathon- Meia de Porto Ferreira
DESCRIPTION:A Run For Life Marathon- Meia de Porto\, acontecerá no dia 01 de maio de 2026 em Porto Ferreira. \nTerá as modalidades: Corrida 5km- Corrida 10km- Corrida 21km- Caminhada 5km- Kids. \nHorários: Largada 10K/21K – 6h30\, Largada 5K – 7h00\, Kids – 8h15. \nINSCREVA-SE \nCupom de desconto CORRERIA10
URL:https://correriacampinas.com.br/calendario/run-for-life-marathon-meia-de-porto-porto-ferreira/
LOCATION:Porto Ferreira – SP
CATEGORIES:Corrida de rua,Meia Maratona 21 Km
END:VEVENT
BEGIN:VEVENT
DTSTART;TZID=America/Sao_Paulo:20260501T070000
DTEND;TZID=America/Sao_Paulo:20260501T070000
DTSTAMP:20260423T104218
CREATED:20260327T131259Z
LAST-MODIFIED:20260327T131259Z
UID:28700-1777618800-1777618800@correriacampinas.com.br
SUMMARY:Corrida Nacional do Sesi- Sorocaba
DESCRIPTION:A Corrida Nacional do Sesi etapa Sorocaba será no dia 01 de maio de 2026 às 07:00\, terá as modalidades de Corrida 5km e 10km e Caminhada 5km. \nINSCREVA-SE
URL:https://correriacampinas.com.br/calendario/corrida-nacional-do-sesi-sorocaba/
LOCATION:Sorocaba – SP
CATEGORIES:Corrida de rua
END:VEVENT
BEGIN:VEVENT
DTSTART;TZID=America/Sao_Paulo:20260501T073000
DTEND;TZID=America/Sao_Paulo:20260501T073000
DTSTAMP:20260423T104218
CREATED:20260120T233926Z
LAST-MODIFIED:20260325T181918Z
UID:27038-1777620600-1777620600@correriacampinas.com.br
SUMMARY:Corrida do Trabalhador de Sorocaba
DESCRIPTION:A Corrida do Trabalhador de Sorocaba acontecerá no dia 01 de maio de 2026 às 07:30 no Parque das Àguas. \nTerá as modalidades de Corrida 5km e Caminhada 3km. \nINSCREVA-SE \nCupom de desconto CORRERIACAMPINAS
URL:https://correriacampinas.com.br/calendario/corrida-do-trabalhador-de-sorocaba-2/
LOCATION:Sorocaba – SP
CATEGORIES:Corrida de rua
END:VEVENT
BEGIN:VEVENT
DTSTART;TZID=America/Sao_Paulo:20260502T200000
DTEND;TZID=America/Sao_Paulo:20260502T200000
DTSTAMP:20260423T104218
CREATED:20260420T132407Z
LAST-MODIFIED:20260420T132407Z
UID:28964-1777752000-1777752000@correriacampinas.com.br
SUMMARY:Corrida Esporte em Movimento- Campinas
DESCRIPTION:A Corrida gratuita Esporte em Movimento acontecerá no dia 02 de maio de 2026 às 20:00 no Taquaral em Campinas. \nTerá as distâncias de Corrida 5km /10km e Caminhada 5km. \nINSCREVA-SE
URL:https://correriacampinas.com.br/calendario/corrida-esporte-em-movimento-campinas/
LOCATION:Campinas – SP
CATEGORIES:Corrida de rua,Corrida Noturna
END:VEVENT
BEGIN:VEVENT
DTSTART;TZID=America/Sao_Paulo:20260503T000000
DTEND;TZID=America/Sao_Paulo:20260503T000000
DTSTAMP:20260423T104218
CREATED:20260206T110807Z
LAST-MODIFIED:20260220T204211Z
UID:27825-1777766400-1777766400@correriacampinas.com.br
SUMMARY:Corrida Lupo Sport- Jundiaí
DESCRIPTION:A Corrida Lupo Sport acontecerá no dia 03 de maio de 2026 em Jundiaí\, com percursos de 3K caminhada\, 6K e 12K corrida. \nINSCREVA-SE \nCupom de desconto CORRERIA10
URL:https://correriacampinas.com.br/calendario/corrida-lupo-sport-jundiai/
LOCATION:Jundiaí – SP
CATEGORIES:Corrida de rua
END:VEVENT
BEGIN:VEVENT
DTSTART;TZID=America/Sao_Paulo:20260503T050000
DTEND;TZID=America/Sao_Paulo:20260503T050000
DTSTAMP:20260423T104218
CREATED:20260106T194345Z
LAST-MODIFIED:20260418T115522Z
UID:26929-1777784400-1777784400@correriacampinas.com.br
SUMMARY:Maratona Internacional de Campinas
DESCRIPTION:A Maratona Internacional de Campinas acontecerá no dia 03 de maio de 2026 no Galleria Shopping. \nTerá as seguintes modalidades e horários de largada: \nMARATONA 42KM: 04h00  – CORRIDA 30KM: 04h00-  MEIA MARATONA 21KM: 05h00 – CORRIDA 10KM -07h00 – CORRIDA/CAMINHADA 5KM – 07h00- CORRIDA KIDS: 09:00 \nINSCREVA-SE \nCupom de desconto CORRERIA10
URL:https://correriacampinas.com.br/calendario/maratona-internacional-de-campinas/
LOCATION:Campinas – SP
CATEGORIES:Corrida de rua,MARATONA,Meia Maratona 21 Km
END:VEVENT
BEGIN:VEVENT
DTSTART;TZID=America/Sao_Paulo:20260503T053000
DTEND;TZID=America/Sao_Paulo:20260503T053000
DTSTAMP:20260423T104218
CREATED:20250727T225405Z
LAST-MODIFIED:20250822T104946Z
UID:23746-1777786200-1777786200@correriacampinas.com.br
SUMMARY:I Maratona de Piracicaba 2026
DESCRIPTION:A primeira edição da Maratona de Piracicaba\, promovida pela Chelso Sports\, será nos dias 02 e 03 de maio de 2026. \nO evento contará com dois dias de provas que serão distribuidas em 5 Km e 10 Km no sábado e 21 Km e 42 Km no domingo!! \nINSCREVA-SE pela  Ticket Sports \nuse nosso cupom de desconto: CORRERIACAMPINAS \nO primeiro dia de lançamento que foi dia 31/07/2025 foram 900 inscritos no lote promocional. Garanta sua vaga! Acesse o site da prova https://www.maratonadepiracicaba.com.br para obter detalhes do percurso.
URL:https://correriacampinas.com.br/calendario/i-maratona-de-piracicaba/
LOCATION:Piracicaba – SP
CATEGORIES:Chelso Sports,MARATONA
ATTACH;FMTTYPE=image/png:https://correriacampinas.com.br/wp-content/uploads/2025/07/maratona-pira.png
END:VEVENT
BEGIN:VEVENT
DTSTART;TZID=America/Sao_Paulo:20260503T070000
DTEND;TZID=America/Sao_Paulo:20260503T070000
DTSTAMP:20260423T104218
CREATED:20260224T111129Z
LAST-MODIFIED:20260224T111129Z
UID:28197-1777791600-1777791600@correriacampinas.com.br
SUMMARY:Corrida Celebration Run- Mogi Guaçu
DESCRIPTION:A Corrida Celebration Run acontecerá no dia 03 de maio de 2026 às 07:00 em Mogi Guaçu\, terá a distância de 5KM de corrida e 2\,5KM de caminhada. \nINSCREVA-SE
URL:https://correriacampinas.com.br/calendario/corrida-celebration-run-mogi-guacu/
LOCATION:Mogi Guaçu – SP
CATEGORIES:Corrida de rua
END:VEVENT
BEGIN:VEVENT
DTSTART;TZID=America/Sao_Paulo:20260510T000000
DTEND;TZID=America/Sao_Paulo:20260510T000000
DTSTAMP:20260423T104218
CREATED:20251226T173321Z
LAST-MODIFIED:20251226T173919Z
UID:26794-1778371200-1778371200@correriacampinas.com.br
SUMMARY:Live Run Xp- Campinas
DESCRIPTION:A Corrida Live Run XP Etapa Campinas acontecerá no dia 10 de maio de 2026 no Kartodromo Taquaral\, com as seguintes modalidades: 5 km\, 10 km e Corrida Kids. \nINSCREVA-SE \nCupom de desconto CORRERIA15
URL:https://correriacampinas.com.br/calendario/live-run-xp-campinas-2/
LOCATION:Campinas – SP
CATEGORIES:Corrida de rua
END:VEVENT
BEGIN:VEVENT
DTSTART;TZID=America/Sao_Paulo:20260510T070000
DTEND;TZID=America/Sao_Paulo:20260510T070000
DTSTAMP:20260423T104218
CREATED:20260228T170944Z
LAST-MODIFIED:20260312T203731Z
UID:28237-1778396400-1778396400@correriacampinas.com.br
SUMMARY:5º Corrida do Paulista- Jundiaí
DESCRIPTION:A 5º edição da Corrida do Paulista em homenagem ao Paulista Futebol Clube\, será no dia 10 de maio de 2026 às 07:00 em Jundiaí\, terá as modalidades de Corrida 5km e 10km\, Caminhada 3km e Corrida Kids. \nINSCREVA-SE \ncupom de desconto CORRERIACAMPINAS10
URL:https://correriacampinas.com.br/calendario/5o-corrida-do-paulista-jundiai/
LOCATION:Jundiaí – SP
CATEGORIES:Corrida de rua,Corrida Kids
END:VEVENT
BEGIN:VEVENT
DTSTART;TZID=America/Sao_Paulo:20260510T070000
DTEND;TZID=America/Sao_Paulo:20260510T070000
DTSTAMP:20260423T104218
CREATED:20260302T172557Z
LAST-MODIFIED:20260302T193354Z
UID:28300-1778396400-1778396400@correriacampinas.com.br
SUMMARY:Run Fest- Cosmópolis
DESCRIPTION:A Corrida Run Fest ocorrerá na cidade de Cosmópolis\, uma celebração especial para homenagear todas as mães\, dia 10 de maio de 2026 às 07:00\, com a opção de Corrida e Caminhada 5k\, e também Corrida Kids. \nINSCREVA-SE \nCupom de desconto CORRERIACAMPINAS
URL:https://correriacampinas.com.br/calendario/run-fast-cosmopolis/
LOCATION:Cosmópolis – SP
CATEGORIES:Corrida de rua,Corrida Kids
END:VEVENT
BEGIN:VEVENT
DTSTART;TZID=America/Sao_Paulo:20260510T070000
DTEND;TZID=America/Sao_Paulo:20260510T070000
DTSTAMP:20260423T104218
CREATED:20260321T170111Z
LAST-MODIFIED:20260321T170111Z
UID:28611-1778396400-1778396400@correriacampinas.com.br
SUMMARY:Corrida das Patroas- Etapa Sorocaba
DESCRIPTION:A Corrida das Patroas Etapa Sorocaba será no dia 10 de maio de 2026 às 07:00 no Parque das Àguas. \nTerá as distâncias: Caminhada 3km / Corrida 5km. \nINSCREVA-SE
URL:https://correriacampinas.com.br/calendario/corrida-das-patroas-etapa-sorocaba/
CATEGORIES:Corrida de rua,Corrida Feminina
END:VEVENT
BEGIN:VEVENT
DTSTART;TZID=America/Sao_Paulo:20260516T080000
DTEND;TZID=America/Sao_Paulo:20260516T080000
DTSTAMP:20260423T104218
CREATED:20251211T110909Z
LAST-MODIFIED:20251211T110924Z
UID:26478-1778918400-1778918400@correriacampinas.com.br
SUMMARY:Ultra Desafio UD- Morungaba
DESCRIPTION:A 3o Etapa da Série Extremo 2026 – UD Ultra Desafio será no dia 16 de mail de 2026 às 08:00 em Morungaba-SP\, nas distâncias de 11km\, 25km e 50km. \nINSCREVA-SE
URL:https://correriacampinas.com.br/calendario/ultra-desafio-ud-morungaba/
LOCATION:Morungaba – SP
CATEGORIES:Trail Run,Ultramaratona
END:VEVENT
BEGIN:VEVENT
DTSTART;TZID=America/Sao_Paulo:20260516T170000
DTEND;TZID=America/Sao_Paulo:20260516T170000
DTSTAMP:20260423T104218
CREATED:20260305T163859Z
LAST-MODIFIED:20260305T164234Z
UID:28350-1778950800-1778950800@correriacampinas.com.br
SUMMARY:Make Up Run- Campinas
DESCRIPTION:A tradicional corrida feminina Make Up Run acontecerá no dia 16 de maio de 2026 às 17:00 no Parque Ecológico de Campinas\, na distância de 6km para Corrida ou Caminhada. \nINSCREVA-SE
URL:https://correriacampinas.com.br/calendario/make-up-run-campinas-2/
LOCATION:Campinas – SP
CATEGORIES:Corrida de rua,Corrida Feminina
END:VEVENT
BEGIN:VEVENT
DTSTART;TZID=America/Sao_Paulo:20260516T190000
DTEND;TZID=America/Sao_Paulo:20260516T190000
DTSTAMP:20260423T104218
CREATED:20251209T140444Z
LAST-MODIFIED:20260306T173439Z
UID:26458-1778958000-1778958000@correriacampinas.com.br
SUMMARY:Itatiba Night Run
DESCRIPTION:A 2º edição da Corrida Itatiba Night Run acontecerá no dia 16 de maio de 2026 às 19:00\, terá as modalidades de Corrida 5km e 10km e Caminhada 5km. \nINSCREVA-SE \nCupom de desconto CORRERIA10
URL:https://correriacampinas.com.br/calendario/itatiba-night-run-2/
LOCATION:Itatiba – SP
CATEGORIES:Corrida de rua,Corrida Noturna
END:VEVENT
BEGIN:VEVENT
DTSTART;TZID=America/Sao_Paulo:20260516T200000
DTEND;TZID=America/Sao_Paulo:20260516T200000
DTSTAMP:20260423T104218
CREATED:20260123T105059Z
LAST-MODIFIED:20260401T122322Z
UID:27123-1778961600-1778961600@correriacampinas.com.br
SUMMARY:6º Corrida da Uva- Vinhedo
DESCRIPTION:A 6º edição da Corrida da Uva etapa Estima- noturna\, será no dia 16 de maio de 2026 às 20:00 em Vinhedo\, na distância de 5km. \nINSCREVA-SE \nCupom de desconto CORRERIA15
URL:https://correriacampinas.com.br/calendario/6o-corrida-da-uva-vinhedo/
LOCATION:Vinhedo – SP
CATEGORIES:Corrida de rua,Corrida Noturna
END:VEVENT
BEGIN:VEVENT
DTSTART;TZID=America/Sao_Paulo:20260517T000000
DTEND;TZID=America/Sao_Paulo:20260517T000000
DTSTAMP:20260423T104218
CREATED:20260210T233441Z
LAST-MODIFIED:20260317T201815Z
UID:28028-1778976000-1778976000@correriacampinas.com.br
SUMMARY:SRUN- Piracicaba
DESCRIPTION:O Circuito SRun Santander chegará em Piracicaba no dia 17 de maio de 2026 e terá as distâncias de 5km e 10km. \nINSCREVA-SE
URL:https://correriacampinas.com.br/calendario/srun-piracicaba/
LOCATION:Piracicaba – SP
CATEGORIES:Corrida de rua
END:VEVENT
END:VCALENDAR